BEGIN:VCALENDAR
VERSION:2.0
PRODID:-//The Good Society - ECPv6.15.20//NONSGML v1.0//EN
CALSCALE:GREGORIAN
METHOD:PUBLISH
X-WR-CALNAME:The Good Society
X-ORIGINAL-URL:https://goodsociety.beer
X-WR-CALDESC:Events for The Good Society
REFRESH-INTERVAL;VALUE=DURATION:PT1H
X-Robots-Tag:noindex
X-PUBLISHED-TTL:PT1H
BEGIN:VTIMEZONE
TZID:America/Los_Angeles
BEGIN:DAYLIGHT
TZOFFSETFROM:-0800
TZOFFSETTO:-0700
TZNAME:PDT
DTSTART:20240310T100000
END:DAYLIGHT
BEGIN:STANDARD
TZOFFSETFROM:-0700
TZOFFSETTO:-0800
TZNAME:PST
DTSTART:20241103T090000
END:STANDARD
BEGIN:DAYLIGHT
TZOFFSETFROM:-0800
TZOFFSETTO:-0700
TZNAME:PDT
DTSTART:20250309T100000
END:DAYLIGHT
BEGIN:STANDARD
TZOFFSETFROM:-0700
TZOFFSETTO:-0800
TZNAME:PST
DTSTART:20251102T090000
END:STANDARD
BEGIN:DAYLIGHT
TZOFFSETFROM:-0800
TZOFFSETTO:-0700
TZNAME:PDT
DTSTART:20260308T100000
END:DAYLIGHT
BEGIN:STANDARD
TZOFFSETFROM:-0700
TZOFFSETTO:-0800
TZNAME:PST
DTSTART:20261101T090000
END:STANDARD
END:VTIMEZONE
BEGIN:VEVENT
DTSTART;TZID=America/Los_Angeles:20250602T190000
DTEND;TZID=America/Los_Angeles:20250602T210000
DTSTAMP:20260419T162956
CREATED:20240312T194423Z
LAST-MODIFIED:20240312T194606Z
UID:10002183-1748890800-1748898000@goodsociety.beer
SUMMARY:Music Bingo - Queen Anne
DESCRIPTION:Free to play and the winner of each round gets a $10 gift card!  How does it work?  Listen to a song and find the song’s artist.  Then look on the provided reference card to see which Bingo space is assigned to that artist.  Is it on your Bingo card?  Then mark it and go for five in a row!
URL:https://goodsociety.beer/event/music-bingo-queen-anne/2025-06-02/
LOCATION:Queen Anne\, 535 W McGraw Street\, Seattle\, WA\, 98119\, United States
CATEGORIES:Game Nights
ATTACH;FMTTYPE=image/png:https://goodsociety.beer/wp-content/uploads/2023/12/Event-Calendar-Tile-QA.png
END:VEVENT
BEGIN:VEVENT
DTSTART;TZID=America/Los_Angeles:20250602T190000
DTEND;TZID=America/Los_Angeles:20250602T210000
DTSTAMP:20260419T162956
CREATED:20231211T021519Z
LAST-MODIFIED:20240312T194117Z
UID:10000077-1748890800-1748898000@goodsociety.beer
SUMMARY:Trivia - West Seattle
DESCRIPTION:Come join us for weekly trivia!  $2 cash per person to enter.  Winning team takes the cash\, second place gets a $20 gift card to The Good Society!
URL:https://goodsociety.beer/event/trivia/2025-06-02/
LOCATION:West Seattle\, 2701 California Ave SW Unit A\, Seattle\, WA\, 98116\, United States
CATEGORIES:Game Nights
ATTACH;FMTTYPE=image/png:https://goodsociety.beer/wp-content/uploads/2023/12/Event-Calendar-Tile-WS-1.png
END:VEVENT
BEGIN:VEVENT
DTSTART;TZID=America/Los_Angeles:20250529T180000
DTEND;TZID=America/Los_Angeles:20250529T210000
DTSTAMP:20260419T162956
CREATED:20250602T212125Z
LAST-MODIFIED:20251013T220348Z
UID:10002570-1748541600-1748552400@goodsociety.beer
SUMMARY:Westies Run Club
DESCRIPTION:Join each Thursday for a run\, beers\, and great company!
URL:https://goodsociety.beer/event/westies-run-club-2/2025-05-29/
LOCATION:West Seattle\, 2701 California Ave SW Unit A\, Seattle\, WA\, 98116\, United States
CATEGORIES:Fitness (Runs, Pilates, etc.)
ATTACH;FMTTYPE=image/png:https://goodsociety.beer/wp-content/uploads/2024/04/Westies-IG-Square-v2.png
END:VEVENT
BEGIN:VEVENT
DTSTART;TZID=America/Los_Angeles:20250528T190000
DTEND;TZID=America/Los_Angeles:20250528T210000
DTSTAMP:20260419T162956
CREATED:20240312T194235Z
LAST-MODIFIED:20240312T194307Z
UID:10001648-1748458800-1748466000@goodsociety.beer
SUMMARY:Trivia - Queen Anne
DESCRIPTION:Come join us for weekly trivia!  $2 cash per person to enter.  Winning team takes the cash\, second place gets a $20 gift card to The Good Society!
URL:https://goodsociety.beer/event/trivia-queen-anne/2025-05-28/
LOCATION:Queen Anne\, 535 W McGraw Street\, Seattle\, WA\, 98119\, United States
CATEGORIES:Game Nights
ATTACH;FMTTYPE=image/png:https://goodsociety.beer/wp-content/uploads/2023/12/Event-Calendar-Tile-QA-1.png
END:VEVENT
BEGIN:VEVENT
DTSTART;TZID=America/Los_Angeles:20250528T190000
DTEND;TZID=America/Los_Angeles:20250528T210000
DTSTAMP:20260419T162956
CREATED:20231211T175349Z
LAST-MODIFIED:20240312T194003Z
UID:10000337-1748458800-1748466000@goodsociety.beer
SUMMARY:Music Bingo - West Seattle
DESCRIPTION:Free to play and the winner of each round gets a $10 gift card!  How does it work?  Listen to a song and find the song’s artist.  Then look on the provided reference card to see which Bingo space is assigned to that artist.  Is it on your Bingo card?  Then mark it and go for five in a row!
URL:https://goodsociety.beer/event/music-bingo/2025-05-28/
LOCATION:West Seattle\, 2701 California Ave SW Unit A\, Seattle\, WA\, 98116\, United States
CATEGORIES:Game Nights
ATTACH;FMTTYPE=image/png:https://goodsociety.beer/wp-content/uploads/2023/12/Event-Calendar-Tile-WS.png
END:VEVENT
BEGIN:VEVENT
DTSTART;TZID=America/Los_Angeles:20250527T183000
DTEND;TZID=America/Los_Angeles:20250527T213000
DTSTAMP:20260419T162956
CREATED:20231227T212806Z
LAST-MODIFIED:20240911T181216Z
UID:10001089-1748370600-1748381400@goodsociety.beer
SUMMARY:Roark Run Amok
DESCRIPTION:Join as we run from Mystery Made in the Alaska Junction to The Good Society in North Admiral!  Put on by Roark.
URL:https://goodsociety.beer/event/roark-run-amok/2025-05-27/
LOCATION:West Seattle\, 2701 California Ave SW Unit A\, Seattle\, WA\, 98116\, United States
CATEGORIES:Fitness (Runs, Pilates, etc.)
ATTACH;FMTTYPE=image/png:https://goodsociety.beer/wp-content/uploads/2023/12/Tile-1.png
END:VEVENT
BEGIN:VEVENT
DTSTART;TZID=America/Los_Angeles:20250526T190000
DTEND;TZID=America/Los_Angeles:20250526T210000
DTSTAMP:20260419T162956
CREATED:20240312T194423Z
LAST-MODIFIED:20240312T194606Z
UID:10002182-1748286000-1748293200@goodsociety.beer
SUMMARY:Music Bingo - Queen Anne
DESCRIPTION:Free to play and the winner of each round gets a $10 gift card!  How does it work?  Listen to a song and find the song’s artist.  Then look on the provided reference card to see which Bingo space is assigned to that artist.  Is it on your Bingo card?  Then mark it and go for five in a row!
URL:https://goodsociety.beer/event/music-bingo-queen-anne/2025-05-26/
LOCATION:Queen Anne\, 535 W McGraw Street\, Seattle\, WA\, 98119\, United States
CATEGORIES:Game Nights
ATTACH;FMTTYPE=image/png:https://goodsociety.beer/wp-content/uploads/2023/12/Event-Calendar-Tile-QA.png
END:VEVENT
BEGIN:VEVENT
DTSTART;TZID=America/Los_Angeles:20250526T190000
DTEND;TZID=America/Los_Angeles:20250526T210000
DTSTAMP:20260419T162956
CREATED:20231211T021519Z
LAST-MODIFIED:20240312T194117Z
UID:10000076-1748286000-1748293200@goodsociety.beer
SUMMARY:Trivia - West Seattle
DESCRIPTION:Come join us for weekly trivia!  $2 cash per person to enter.  Winning team takes the cash\, second place gets a $20 gift card to The Good Society!
URL:https://goodsociety.beer/event/trivia/2025-05-26/
LOCATION:West Seattle\, 2701 California Ave SW Unit A\, Seattle\, WA\, 98116\, United States
CATEGORIES:Game Nights
ATTACH;FMTTYPE=image/png:https://goodsociety.beer/wp-content/uploads/2023/12/Event-Calendar-Tile-WS-1.png
END:VEVENT
BEGIN:VEVENT
DTSTART;TZID=America/Los_Angeles:20250522T180000
DTEND;TZID=America/Los_Angeles:20250522T210000
DTSTAMP:20260419T162956
CREATED:20250602T212125Z
LAST-MODIFIED:20251013T220348Z
UID:10002569-1747936800-1747947600@goodsociety.beer
SUMMARY:Westies Run Club
DESCRIPTION:Join each Thursday for a run\, beers\, and great company!
URL:https://goodsociety.beer/event/westies-run-club-2/2025-05-22/
LOCATION:West Seattle\, 2701 California Ave SW Unit A\, Seattle\, WA\, 98116\, United States
CATEGORIES:Fitness (Runs, Pilates, etc.)
ATTACH;FMTTYPE=image/png:https://goodsociety.beer/wp-content/uploads/2024/04/Westies-IG-Square-v2.png
END:VEVENT
BEGIN:VEVENT
DTSTART;TZID=America/Los_Angeles:20250521T190000
DTEND;TZID=America/Los_Angeles:20250521T210000
DTSTAMP:20260419T162956
CREATED:20240312T194235Z
LAST-MODIFIED:20240312T194307Z
UID:10001647-1747854000-1747861200@goodsociety.beer
SUMMARY:Trivia - Queen Anne
DESCRIPTION:Come join us for weekly trivia!  $2 cash per person to enter.  Winning team takes the cash\, second place gets a $20 gift card to The Good Society!
URL:https://goodsociety.beer/event/trivia-queen-anne/2025-05-21/
LOCATION:Queen Anne\, 535 W McGraw Street\, Seattle\, WA\, 98119\, United States
CATEGORIES:Game Nights
ATTACH;FMTTYPE=image/png:https://goodsociety.beer/wp-content/uploads/2023/12/Event-Calendar-Tile-QA-1.png
END:VEVENT
BEGIN:VEVENT
DTSTART;TZID=America/Los_Angeles:20250521T190000
DTEND;TZID=America/Los_Angeles:20250521T210000
DTSTAMP:20260419T162956
CREATED:20231211T175349Z
LAST-MODIFIED:20240312T194003Z
UID:10000336-1747854000-1747861200@goodsociety.beer
SUMMARY:Music Bingo - West Seattle
DESCRIPTION:Free to play and the winner of each round gets a $10 gift card!  How does it work?  Listen to a song and find the song’s artist.  Then look on the provided reference card to see which Bingo space is assigned to that artist.  Is it on your Bingo card?  Then mark it and go for five in a row!
URL:https://goodsociety.beer/event/music-bingo/2025-05-21/
LOCATION:West Seattle\, 2701 California Ave SW Unit A\, Seattle\, WA\, 98116\, United States
CATEGORIES:Game Nights
ATTACH;FMTTYPE=image/png:https://goodsociety.beer/wp-content/uploads/2023/12/Event-Calendar-Tile-WS.png
END:VEVENT
BEGIN:VEVENT
DTSTART;TZID=America/Los_Angeles:20250520T180000
DTEND;TZID=America/Los_Angeles:20250520T200000
DTSTAMP:20260419T162956
CREATED:20241015T205549Z
LAST-MODIFIED:20241015T205549Z
UID:10002439-1747764000-1747771200@goodsociety.beer
SUMMARY:West Seattle Ukulele Players
DESCRIPTION:The West Seattle Ukuele Players are on our patio the third Tuesday of each month!
URL:https://goodsociety.beer/event/west-seattle-ukulele-players/2025-05-20/
LOCATION:West Seattle\, 2701 California Ave SW Unit A\, Seattle\, WA\, 98116\, United States
ATTACH;FMTTYPE=image/jpeg:https://goodsociety.beer/wp-content/uploads/2024/10/WSUP.jpg
END:VEVENT
BEGIN:VEVENT
DTSTART;TZID=America/Los_Angeles:20250519T190000
DTEND;TZID=America/Los_Angeles:20250519T210000
DTSTAMP:20260419T162956
CREATED:20240312T194423Z
LAST-MODIFIED:20240312T194606Z
UID:10002181-1747681200-1747688400@goodsociety.beer
SUMMARY:Music Bingo - Queen Anne
DESCRIPTION:Free to play and the winner of each round gets a $10 gift card!  How does it work?  Listen to a song and find the song’s artist.  Then look on the provided reference card to see which Bingo space is assigned to that artist.  Is it on your Bingo card?  Then mark it and go for five in a row!
URL:https://goodsociety.beer/event/music-bingo-queen-anne/2025-05-19/
LOCATION:Queen Anne\, 535 W McGraw Street\, Seattle\, WA\, 98119\, United States
CATEGORIES:Game Nights
ATTACH;FMTTYPE=image/png:https://goodsociety.beer/wp-content/uploads/2023/12/Event-Calendar-Tile-QA.png
END:VEVENT
BEGIN:VEVENT
DTSTART;TZID=America/Los_Angeles:20250519T190000
DTEND;TZID=America/Los_Angeles:20250519T210000
DTSTAMP:20260419T162956
CREATED:20231211T021519Z
LAST-MODIFIED:20240312T194117Z
UID:10000075-1747681200-1747688400@goodsociety.beer
SUMMARY:Trivia - West Seattle
DESCRIPTION:Come join us for weekly trivia!  $2 cash per person to enter.  Winning team takes the cash\, second place gets a $20 gift card to The Good Society!
URL:https://goodsociety.beer/event/trivia/2025-05-19/
LOCATION:West Seattle\, 2701 California Ave SW Unit A\, Seattle\, WA\, 98116\, United States
CATEGORIES:Game Nights
ATTACH;FMTTYPE=image/png:https://goodsociety.beer/wp-content/uploads/2023/12/Event-Calendar-Tile-WS-1.png
END:VEVENT
BEGIN:VEVENT
DTSTART;TZID=America/Los_Angeles:20250515T180000
DTEND;TZID=America/Los_Angeles:20250515T210000
DTSTAMP:20260419T162956
CREATED:20250602T212125Z
LAST-MODIFIED:20251013T220348Z
UID:10002568-1747332000-1747342800@goodsociety.beer
SUMMARY:Westies Run Club
DESCRIPTION:Join each Thursday for a run\, beers\, and great company!
URL:https://goodsociety.beer/event/westies-run-club-2/2025-05-15/
LOCATION:West Seattle\, 2701 California Ave SW Unit A\, Seattle\, WA\, 98116\, United States
CATEGORIES:Fitness (Runs, Pilates, etc.)
ATTACH;FMTTYPE=image/png:https://goodsociety.beer/wp-content/uploads/2024/04/Westies-IG-Square-v2.png
END:VEVENT
BEGIN:VEVENT
DTSTART;TZID=America/Los_Angeles:20250514T190000
DTEND;TZID=America/Los_Angeles:20250514T210000
DTSTAMP:20260419T162956
CREATED:20240312T194235Z
LAST-MODIFIED:20240312T194307Z
UID:10001646-1747249200-1747256400@goodsociety.beer
SUMMARY:Trivia - Queen Anne
DESCRIPTION:Come join us for weekly trivia!  $2 cash per person to enter.  Winning team takes the cash\, second place gets a $20 gift card to The Good Society!
URL:https://goodsociety.beer/event/trivia-queen-anne/2025-05-14/
LOCATION:Queen Anne\, 535 W McGraw Street\, Seattle\, WA\, 98119\, United States
CATEGORIES:Game Nights
ATTACH;FMTTYPE=image/png:https://goodsociety.beer/wp-content/uploads/2023/12/Event-Calendar-Tile-QA-1.png
END:VEVENT
BEGIN:VEVENT
DTSTART;TZID=America/Los_Angeles:20250514T190000
DTEND;TZID=America/Los_Angeles:20250514T210000
DTSTAMP:20260419T162956
CREATED:20231211T175349Z
LAST-MODIFIED:20240312T194003Z
UID:10000335-1747249200-1747256400@goodsociety.beer
SUMMARY:Music Bingo - West Seattle
DESCRIPTION:Free to play and the winner of each round gets a $10 gift card!  How does it work?  Listen to a song and find the song’s artist.  Then look on the provided reference card to see which Bingo space is assigned to that artist.  Is it on your Bingo card?  Then mark it and go for five in a row!
URL:https://goodsociety.beer/event/music-bingo/2025-05-14/
LOCATION:West Seattle\, 2701 California Ave SW Unit A\, Seattle\, WA\, 98116\, United States
CATEGORIES:Game Nights
ATTACH;FMTTYPE=image/png:https://goodsociety.beer/wp-content/uploads/2023/12/Event-Calendar-Tile-WS.png
END:VEVENT
BEGIN:VEVENT
DTSTART;TZID=America/Los_Angeles:20250513T183000
DTEND;TZID=America/Los_Angeles:20250513T213000
DTSTAMP:20260419T162956
CREATED:20231227T212806Z
LAST-MODIFIED:20240911T181216Z
UID:10001087-1747161000-1747171800@goodsociety.beer
SUMMARY:Roark Run Amok
DESCRIPTION:Join as we run from Mystery Made in the Alaska Junction to The Good Society in North Admiral!  Put on by Roark.
URL:https://goodsociety.beer/event/roark-run-amok/2025-05-13/
LOCATION:West Seattle\, 2701 California Ave SW Unit A\, Seattle\, WA\, 98116\, United States
CATEGORIES:Fitness (Runs, Pilates, etc.)
ATTACH;FMTTYPE=image/png:https://goodsociety.beer/wp-content/uploads/2023/12/Tile-1.png
END:VEVENT
BEGIN:VEVENT
DTSTART;TZID=America/Los_Angeles:20250512T190000
DTEND;TZID=America/Los_Angeles:20250512T210000
DTSTAMP:20260419T162956
CREATED:20240312T194423Z
LAST-MODIFIED:20240312T194606Z
UID:10002180-1747076400-1747083600@goodsociety.beer
SUMMARY:Music Bingo - Queen Anne
DESCRIPTION:Free to play and the winner of each round gets a $10 gift card!  How does it work?  Listen to a song and find the song’s artist.  Then look on the provided reference card to see which Bingo space is assigned to that artist.  Is it on your Bingo card?  Then mark it and go for five in a row!
URL:https://goodsociety.beer/event/music-bingo-queen-anne/2025-05-12/
LOCATION:Queen Anne\, 535 W McGraw Street\, Seattle\, WA\, 98119\, United States
CATEGORIES:Game Nights
ATTACH;FMTTYPE=image/png:https://goodsociety.beer/wp-content/uploads/2023/12/Event-Calendar-Tile-QA.png
END:VEVENT
BEGIN:VEVENT
DTSTART;TZID=America/Los_Angeles:20250512T190000
DTEND;TZID=America/Los_Angeles:20250512T210000
DTSTAMP:20260419T162956
CREATED:20231211T021519Z
LAST-MODIFIED:20240312T194117Z
UID:10000074-1747076400-1747083600@goodsociety.beer
SUMMARY:Trivia - West Seattle
DESCRIPTION:Come join us for weekly trivia!  $2 cash per person to enter.  Winning team takes the cash\, second place gets a $20 gift card to The Good Society!
URL:https://goodsociety.beer/event/trivia/2025-05-12/
LOCATION:West Seattle\, 2701 California Ave SW Unit A\, Seattle\, WA\, 98116\, United States
CATEGORIES:Game Nights
ATTACH;FMTTYPE=image/png:https://goodsociety.beer/wp-content/uploads/2023/12/Event-Calendar-Tile-WS-1.png
END:VEVENT
BEGIN:VEVENT
DTSTART;TZID=America/Los_Angeles:20250508T180000
DTEND;TZID=America/Los_Angeles:20250508T210000
DTSTAMP:20260419T162956
CREATED:20250602T212125Z
LAST-MODIFIED:20251013T220348Z
UID:10002567-1746727200-1746738000@goodsociety.beer
SUMMARY:Westies Run Club
DESCRIPTION:Join each Thursday for a run\, beers\, and great company!
URL:https://goodsociety.beer/event/westies-run-club-2/2025-05-08/
LOCATION:West Seattle\, 2701 California Ave SW Unit A\, Seattle\, WA\, 98116\, United States
CATEGORIES:Fitness (Runs, Pilates, etc.)
ATTACH;FMTTYPE=image/png:https://goodsociety.beer/wp-content/uploads/2024/04/Westies-IG-Square-v2.png
END:VEVENT
BEGIN:VEVENT
DTSTART;TZID=America/Los_Angeles:20250508T170000
DTEND;TZID=America/Los_Angeles:20250508T220000
DTSTAMP:20260419T162956
CREATED:20231217T155345Z
LAST-MODIFIED:20231227T221849Z
UID:10000971-1746723600-1746741600@goodsociety.beer
SUMMARY:West Seattle Art Walk
DESCRIPTION:Join us as we display local artists the second Tuesday of each month!
URL:https://goodsociety.beer/event/west-seattle-art-walk/2025-05-08/
LOCATION:West Seattle\, 2701 California Ave SW Unit A\, Seattle\, WA\, 98116\, United States
CATEGORIES:Fitness (Runs, Pilates, etc.)
ATTACH;FMTTYPE=image/png:https://goodsociety.beer/wp-content/uploads/2023/12/Social-Tile.png
END:VEVENT
BEGIN:VEVENT
DTSTART;TZID=America/Los_Angeles:20250507T190000
DTEND;TZID=America/Los_Angeles:20250507T210000
DTSTAMP:20260419T162956
CREATED:20240312T194235Z
LAST-MODIFIED:20240312T194307Z
UID:10001645-1746644400-1746651600@goodsociety.beer
SUMMARY:Trivia - Queen Anne
DESCRIPTION:Come join us for weekly trivia!  $2 cash per person to enter.  Winning team takes the cash\, second place gets a $20 gift card to The Good Society!
URL:https://goodsociety.beer/event/trivia-queen-anne/2025-05-07/
LOCATION:Queen Anne\, 535 W McGraw Street\, Seattle\, WA\, 98119\, United States
CATEGORIES:Game Nights
ATTACH;FMTTYPE=image/png:https://goodsociety.beer/wp-content/uploads/2023/12/Event-Calendar-Tile-QA-1.png
END:VEVENT
BEGIN:VEVENT
DTSTART;TZID=America/Los_Angeles:20250507T190000
DTEND;TZID=America/Los_Angeles:20250507T210000
DTSTAMP:20260419T162956
CREATED:20231211T175349Z
LAST-MODIFIED:20240312T194003Z
UID:10000334-1746644400-1746651600@goodsociety.beer
SUMMARY:Music Bingo - West Seattle
DESCRIPTION:Free to play and the winner of each round gets a $10 gift card!  How does it work?  Listen to a song and find the song’s artist.  Then look on the provided reference card to see which Bingo space is assigned to that artist.  Is it on your Bingo card?  Then mark it and go for five in a row!
URL:https://goodsociety.beer/event/music-bingo/2025-05-07/
LOCATION:West Seattle\, 2701 California Ave SW Unit A\, Seattle\, WA\, 98116\, United States
CATEGORIES:Game Nights
ATTACH;FMTTYPE=image/png:https://goodsociety.beer/wp-content/uploads/2023/12/Event-Calendar-Tile-WS.png
END:VEVENT
BEGIN:VEVENT
DTSTART;TZID=America/Los_Angeles:20250505T190000
DTEND;TZID=America/Los_Angeles:20250505T210000
DTSTAMP:20260419T162956
CREATED:20240312T194423Z
LAST-MODIFIED:20240312T194606Z
UID:10002179-1746471600-1746478800@goodsociety.beer
SUMMARY:Music Bingo - Queen Anne
DESCRIPTION:Free to play and the winner of each round gets a $10 gift card!  How does it work?  Listen to a song and find the song’s artist.  Then look on the provided reference card to see which Bingo space is assigned to that artist.  Is it on your Bingo card?  Then mark it and go for five in a row!
URL:https://goodsociety.beer/event/music-bingo-queen-anne/2025-05-05/
LOCATION:Queen Anne\, 535 W McGraw Street\, Seattle\, WA\, 98119\, United States
CATEGORIES:Game Nights
ATTACH;FMTTYPE=image/png:https://goodsociety.beer/wp-content/uploads/2023/12/Event-Calendar-Tile-QA.png
END:VEVENT
BEGIN:VEVENT
DTSTART;TZID=America/Los_Angeles:20250505T190000
DTEND;TZID=America/Los_Angeles:20250505T210000
DTSTAMP:20260419T162956
CREATED:20231211T021519Z
LAST-MODIFIED:20240312T194117Z
UID:10000073-1746471600-1746478800@goodsociety.beer
SUMMARY:Trivia - West Seattle
DESCRIPTION:Come join us for weekly trivia!  $2 cash per person to enter.  Winning team takes the cash\, second place gets a $20 gift card to The Good Society!
URL:https://goodsociety.beer/event/trivia/2025-05-05/
LOCATION:West Seattle\, 2701 California Ave SW Unit A\, Seattle\, WA\, 98116\, United States
CATEGORIES:Game Nights
ATTACH;FMTTYPE=image/png:https://goodsociety.beer/wp-content/uploads/2023/12/Event-Calendar-Tile-WS-1.png
END:VEVENT
BEGIN:VEVENT
DTSTART;TZID=America/Los_Angeles:20250501T180000
DTEND;TZID=America/Los_Angeles:20250501T210000
DTSTAMP:20260419T162956
CREATED:20250602T212125Z
LAST-MODIFIED:20251013T220348Z
UID:10002566-1746122400-1746133200@goodsociety.beer
SUMMARY:Westies Run Club
DESCRIPTION:Join each Thursday for a run\, beers\, and great company!
URL:https://goodsociety.beer/event/westies-run-club-2/2025-05-01/
LOCATION:West Seattle\, 2701 California Ave SW Unit A\, Seattle\, WA\, 98116\, United States
CATEGORIES:Fitness (Runs, Pilates, etc.)
ATTACH;FMTTYPE=image/png:https://goodsociety.beer/wp-content/uploads/2024/04/Westies-IG-Square-v2.png
END:VEVENT
BEGIN:VEVENT
DTSTART;TZID=America/Los_Angeles:20250430T190000
DTEND;TZID=America/Los_Angeles:20250430T210000
DTSTAMP:20260419T162956
CREATED:20240312T194235Z
LAST-MODIFIED:20240312T194307Z
UID:10001644-1746039600-1746046800@goodsociety.beer
SUMMARY:Trivia - Queen Anne
DESCRIPTION:Come join us for weekly trivia!  $2 cash per person to enter.  Winning team takes the cash\, second place gets a $20 gift card to The Good Society!
URL:https://goodsociety.beer/event/trivia-queen-anne/2025-04-30/
LOCATION:Queen Anne\, 535 W McGraw Street\, Seattle\, WA\, 98119\, United States
CATEGORIES:Game Nights
ATTACH;FMTTYPE=image/png:https://goodsociety.beer/wp-content/uploads/2023/12/Event-Calendar-Tile-QA-1.png
END:VEVENT
BEGIN:VEVENT
DTSTART;TZID=America/Los_Angeles:20250430T190000
DTEND;TZID=America/Los_Angeles:20250430T210000
DTSTAMP:20260419T162956
CREATED:20231211T175349Z
LAST-MODIFIED:20240312T194003Z
UID:10000333-1746039600-1746046800@goodsociety.beer
SUMMARY:Music Bingo - West Seattle
DESCRIPTION:Free to play and the winner of each round gets a $10 gift card!  How does it work?  Listen to a song and find the song’s artist.  Then look on the provided reference card to see which Bingo space is assigned to that artist.  Is it on your Bingo card?  Then mark it and go for five in a row!
URL:https://goodsociety.beer/event/music-bingo/2025-04-30/
LOCATION:West Seattle\, 2701 California Ave SW Unit A\, Seattle\, WA\, 98116\, United States
CATEGORIES:Game Nights
ATTACH;FMTTYPE=image/png:https://goodsociety.beer/wp-content/uploads/2023/12/Event-Calendar-Tile-WS.png
END:VEVENT
BEGIN:VEVENT
DTSTART;TZID=America/Los_Angeles:20250429T183000
DTEND;TZID=America/Los_Angeles:20250429T213000
DTSTAMP:20260419T162956
CREATED:20231227T212806Z
LAST-MODIFIED:20240911T181216Z
UID:10001085-1745951400-1745962200@goodsociety.beer
SUMMARY:Roark Run Amok
DESCRIPTION:Join as we run from Mystery Made in the Alaska Junction to The Good Society in North Admiral!  Put on by Roark.
URL:https://goodsociety.beer/event/roark-run-amok/2025-04-29/
LOCATION:West Seattle\, 2701 California Ave SW Unit A\, Seattle\, WA\, 98116\, United States
CATEGORIES:Fitness (Runs, Pilates, etc.)
ATTACH;FMTTYPE=image/png:https://goodsociety.beer/wp-content/uploads/2023/12/Tile-1.png
END:VEVENT
END:VCALENDAR