BEGIN:VCALENDAR
VERSION:2.0
PRODID:-//The Good Society - ECPv6.15.20//NONSGML v1.0//EN
CALSCALE:GREGORIAN
METHOD:PUBLISH
X-ORIGINAL-URL:https://goodsociety.beer
X-WR-CALDESC:Events for The Good Society
REFRESH-INTERVAL;VALUE=DURATION:PT1H
X-Robots-Tag:noindex
X-PUBLISHED-TTL:PT1H
BEGIN:VTIMEZONE
TZID:America/Los_Angeles
BEGIN:DAYLIGHT
TZOFFSETFROM:-0800
TZOFFSETTO:-0700
TZNAME:PDT
DTSTART:20240310T100000
END:DAYLIGHT
BEGIN:STANDARD
TZOFFSETFROM:-0700
TZOFFSETTO:-0800
TZNAME:PST
DTSTART:20241103T090000
END:STANDARD
BEGIN:DAYLIGHT
TZOFFSETFROM:-0800
TZOFFSETTO:-0700
TZNAME:PDT
DTSTART:20250309T100000
END:DAYLIGHT
BEGIN:STANDARD
TZOFFSETFROM:-0700
TZOFFSETTO:-0800
TZNAME:PST
DTSTART:20251102T090000
END:STANDARD
BEGIN:DAYLIGHT
TZOFFSETFROM:-0800
TZOFFSETTO:-0700
TZNAME:PDT
DTSTART:20260308T100000
END:DAYLIGHT
BEGIN:STANDARD
TZOFFSETFROM:-0700
TZOFFSETTO:-0800
TZNAME:PST
DTSTART:20261101T090000
END:STANDARD
END:VTIMEZONE
BEGIN:VEVENT
DTSTART;TZID=America/Los_Angeles:20250310T190000
DTEND;TZID=America/Los_Angeles:20250310T210000
DTSTAMP:20260420T011129
CREATED:20240312T194423Z
LAST-MODIFIED:20240312T194606Z
UID:10002171-1741633200-1741640400@goodsociety.beer
SUMMARY:Music Bingo - Queen Anne
DESCRIPTION:Free to play and the winner of each round gets a $10 gift card!  How does it work?  Listen to a song and find the song’s artist.  Then look on the provided reference card to see which Bingo space is assigned to that artist.  Is it on your Bingo card?  Then mark it and go for five in a row!
URL:https://goodsociety.beer/event/music-bingo-queen-anne/2025-03-10/
LOCATION:Queen Anne\, 535 W McGraw Street\, Seattle\, WA\, 98119\, United States
CATEGORIES:Game Nights
ATTACH;FMTTYPE=image/png:https://goodsociety.beer/wp-content/uploads/2023/12/Event-Calendar-Tile-QA.png
END:VEVENT
BEGIN:VEVENT
DTSTART;TZID=America/Los_Angeles:20250310T190000
DTEND;TZID=America/Los_Angeles:20250310T210000
DTSTAMP:20260420T011129
CREATED:20231211T021519Z
LAST-MODIFIED:20240312T194117Z
UID:10000065-1741633200-1741640400@goodsociety.beer
SUMMARY:Trivia - West Seattle
DESCRIPTION:Come join us for weekly trivia!  $2 cash per person to enter.  Winning team takes the cash\, second place gets a $20 gift card to The Good Society!
URL:https://goodsociety.beer/event/trivia/2025-03-10/
LOCATION:West Seattle\, 2701 California Ave SW Unit A\, Seattle\, WA\, 98116\, United States
CATEGORIES:Game Nights
ATTACH;FMTTYPE=image/png:https://goodsociety.beer/wp-content/uploads/2023/12/Event-Calendar-Tile-WS-1.png
END:VEVENT
BEGIN:VEVENT
DTSTART;TZID=America/Los_Angeles:20250305T190000
DTEND;TZID=America/Los_Angeles:20250305T210000
DTSTAMP:20260420T011129
CREATED:20240312T194235Z
LAST-MODIFIED:20240312T194307Z
UID:10001636-1741201200-1741208400@goodsociety.beer
SUMMARY:Trivia - Queen Anne
DESCRIPTION:Come join us for weekly trivia!  $2 cash per person to enter.  Winning team takes the cash\, second place gets a $20 gift card to The Good Society!
URL:https://goodsociety.beer/event/trivia-queen-anne/2025-03-05/
LOCATION:Queen Anne\, 535 W McGraw Street\, Seattle\, WA\, 98119\, United States
CATEGORIES:Game Nights
ATTACH;FMTTYPE=image/png:https://goodsociety.beer/wp-content/uploads/2023/12/Event-Calendar-Tile-QA-1.png
END:VEVENT
BEGIN:VEVENT
DTSTART;TZID=America/Los_Angeles:20250305T190000
DTEND;TZID=America/Los_Angeles:20250305T210000
DTSTAMP:20260420T011129
CREATED:20231211T175349Z
LAST-MODIFIED:20240312T194003Z
UID:10000325-1741201200-1741208400@goodsociety.beer
SUMMARY:Music Bingo - West Seattle
DESCRIPTION:Free to play and the winner of each round gets a $10 gift card!  How does it work?  Listen to a song and find the song’s artist.  Then look on the provided reference card to see which Bingo space is assigned to that artist.  Is it on your Bingo card?  Then mark it and go for five in a row!
URL:https://goodsociety.beer/event/music-bingo/2025-03-05/
LOCATION:West Seattle\, 2701 California Ave SW Unit A\, Seattle\, WA\, 98116\, United States
CATEGORIES:Game Nights
ATTACH;FMTTYPE=image/png:https://goodsociety.beer/wp-content/uploads/2023/12/Event-Calendar-Tile-WS.png
END:VEVENT
BEGIN:VEVENT
DTSTART;TZID=America/Los_Angeles:20250304T183000
DTEND;TZID=America/Los_Angeles:20250304T213000
DTSTAMP:20260420T011129
CREATED:20231227T212806Z
LAST-MODIFIED:20240911T181216Z
UID:10001077-1741113000-1741123800@goodsociety.beer
SUMMARY:Roark Run Amok
DESCRIPTION:Join as we run from Mystery Made in the Alaska Junction to The Good Society in North Admiral!  Put on by Roark.
URL:https://goodsociety.beer/event/roark-run-amok/2025-03-04/
LOCATION:West Seattle\, 2701 California Ave SW Unit A\, Seattle\, WA\, 98116\, United States
CATEGORIES:Fitness (Runs, Pilates, etc.)
ATTACH;FMTTYPE=image/png:https://goodsociety.beer/wp-content/uploads/2023/12/Tile-1.png
END:VEVENT
BEGIN:VEVENT
DTSTART;TZID=America/Los_Angeles:20250303T190000
DTEND;TZID=America/Los_Angeles:20250303T210000
DTSTAMP:20260420T011129
CREATED:20240312T194423Z
LAST-MODIFIED:20240312T194606Z
UID:10002170-1741028400-1741035600@goodsociety.beer
SUMMARY:Music Bingo - Queen Anne
DESCRIPTION:Free to play and the winner of each round gets a $10 gift card!  How does it work?  Listen to a song and find the song’s artist.  Then look on the provided reference card to see which Bingo space is assigned to that artist.  Is it on your Bingo card?  Then mark it and go for five in a row!
URL:https://goodsociety.beer/event/music-bingo-queen-anne/2025-03-03/
LOCATION:Queen Anne\, 535 W McGraw Street\, Seattle\, WA\, 98119\, United States
CATEGORIES:Game Nights
ATTACH;FMTTYPE=image/png:https://goodsociety.beer/wp-content/uploads/2023/12/Event-Calendar-Tile-QA.png
END:VEVENT
BEGIN:VEVENT
DTSTART;TZID=America/Los_Angeles:20250303T190000
DTEND;TZID=America/Los_Angeles:20250303T210000
DTSTAMP:20260420T011129
CREATED:20231211T021519Z
LAST-MODIFIED:20240312T194117Z
UID:10000064-1741028400-1741035600@goodsociety.beer
SUMMARY:Trivia - West Seattle
DESCRIPTION:Come join us for weekly trivia!  $2 cash per person to enter.  Winning team takes the cash\, second place gets a $20 gift card to The Good Society!
URL:https://goodsociety.beer/event/trivia/2025-03-03/
LOCATION:West Seattle\, 2701 California Ave SW Unit A\, Seattle\, WA\, 98116\, United States
CATEGORIES:Game Nights
ATTACH;FMTTYPE=image/png:https://goodsociety.beer/wp-content/uploads/2023/12/Event-Calendar-Tile-WS-1.png
END:VEVENT
BEGIN:VEVENT
DTSTART;TZID=America/Los_Angeles:20250226T190000
DTEND;TZID=America/Los_Angeles:20250226T210000
DTSTAMP:20260420T011129
CREATED:20240312T194235Z
LAST-MODIFIED:20240312T194307Z
UID:10001635-1740596400-1740603600@goodsociety.beer
SUMMARY:Trivia - Queen Anne
DESCRIPTION:Come join us for weekly trivia!  $2 cash per person to enter.  Winning team takes the cash\, second place gets a $20 gift card to The Good Society!
URL:https://goodsociety.beer/event/trivia-queen-anne/2025-02-26/
LOCATION:Queen Anne\, 535 W McGraw Street\, Seattle\, WA\, 98119\, United States
CATEGORIES:Game Nights
ATTACH;FMTTYPE=image/png:https://goodsociety.beer/wp-content/uploads/2023/12/Event-Calendar-Tile-QA-1.png
END:VEVENT
BEGIN:VEVENT
DTSTART;TZID=America/Los_Angeles:20250226T190000
DTEND;TZID=America/Los_Angeles:20250226T210000
DTSTAMP:20260420T011129
CREATED:20231211T175349Z
LAST-MODIFIED:20240312T194003Z
UID:10000324-1740596400-1740603600@goodsociety.beer
SUMMARY:Music Bingo - West Seattle
DESCRIPTION:Free to play and the winner of each round gets a $10 gift card!  How does it work?  Listen to a song and find the song’s artist.  Then look on the provided reference card to see which Bingo space is assigned to that artist.  Is it on your Bingo card?  Then mark it and go for five in a row!
URL:https://goodsociety.beer/event/music-bingo/2025-02-26/
LOCATION:West Seattle\, 2701 California Ave SW Unit A\, Seattle\, WA\, 98116\, United States
CATEGORIES:Game Nights
ATTACH;FMTTYPE=image/png:https://goodsociety.beer/wp-content/uploads/2023/12/Event-Calendar-Tile-WS.png
END:VEVENT
BEGIN:VEVENT
DTSTART;TZID=America/Los_Angeles:20250224T190000
DTEND;TZID=America/Los_Angeles:20250224T210000
DTSTAMP:20260420T011129
CREATED:20240312T194423Z
LAST-MODIFIED:20240312T194606Z
UID:10002169-1740423600-1740430800@goodsociety.beer
SUMMARY:Music Bingo - Queen Anne
DESCRIPTION:Free to play and the winner of each round gets a $10 gift card!  How does it work?  Listen to a song and find the song’s artist.  Then look on the provided reference card to see which Bingo space is assigned to that artist.  Is it on your Bingo card?  Then mark it and go for five in a row!
URL:https://goodsociety.beer/event/music-bingo-queen-anne/2025-02-24/
LOCATION:Queen Anne\, 535 W McGraw Street\, Seattle\, WA\, 98119\, United States
CATEGORIES:Game Nights
ATTACH;FMTTYPE=image/png:https://goodsociety.beer/wp-content/uploads/2023/12/Event-Calendar-Tile-QA.png
END:VEVENT
BEGIN:VEVENT
DTSTART;TZID=America/Los_Angeles:20250224T190000
DTEND;TZID=America/Los_Angeles:20250224T210000
DTSTAMP:20260420T011129
CREATED:20231211T021519Z
LAST-MODIFIED:20240312T194117Z
UID:10000063-1740423600-1740430800@goodsociety.beer
SUMMARY:Trivia - West Seattle
DESCRIPTION:Come join us for weekly trivia!  $2 cash per person to enter.  Winning team takes the cash\, second place gets a $20 gift card to The Good Society!
URL:https://goodsociety.beer/event/trivia/2025-02-24/
LOCATION:West Seattle\, 2701 California Ave SW Unit A\, Seattle\, WA\, 98116\, United States
CATEGORIES:Game Nights
ATTACH;FMTTYPE=image/png:https://goodsociety.beer/wp-content/uploads/2023/12/Event-Calendar-Tile-WS-1.png
END:VEVENT
BEGIN:VEVENT
DTSTART;TZID=America/Los_Angeles:20250219T190000
DTEND;TZID=America/Los_Angeles:20250219T210000
DTSTAMP:20260420T011129
CREATED:20240312T194235Z
LAST-MODIFIED:20240312T194307Z
UID:10001634-1739991600-1739998800@goodsociety.beer
SUMMARY:Trivia - Queen Anne
DESCRIPTION:Come join us for weekly trivia!  $2 cash per person to enter.  Winning team takes the cash\, second place gets a $20 gift card to The Good Society!
URL:https://goodsociety.beer/event/trivia-queen-anne/2025-02-19/
LOCATION:Queen Anne\, 535 W McGraw Street\, Seattle\, WA\, 98119\, United States
CATEGORIES:Game Nights
ATTACH;FMTTYPE=image/png:https://goodsociety.beer/wp-content/uploads/2023/12/Event-Calendar-Tile-QA-1.png
END:VEVENT
BEGIN:VEVENT
DTSTART;TZID=America/Los_Angeles:20250219T190000
DTEND;TZID=America/Los_Angeles:20250219T210000
DTSTAMP:20260420T011129
CREATED:20231211T175349Z
LAST-MODIFIED:20240312T194003Z
UID:10000323-1739991600-1739998800@goodsociety.beer
SUMMARY:Music Bingo - West Seattle
DESCRIPTION:Free to play and the winner of each round gets a $10 gift card!  How does it work?  Listen to a song and find the song’s artist.  Then look on the provided reference card to see which Bingo space is assigned to that artist.  Is it on your Bingo card?  Then mark it and go for five in a row!
URL:https://goodsociety.beer/event/music-bingo/2025-02-19/
LOCATION:West Seattle\, 2701 California Ave SW Unit A\, Seattle\, WA\, 98116\, United States
CATEGORIES:Game Nights
ATTACH;FMTTYPE=image/png:https://goodsociety.beer/wp-content/uploads/2023/12/Event-Calendar-Tile-WS.png
END:VEVENT
BEGIN:VEVENT
DTSTART;TZID=America/Los_Angeles:20250218T183000
DTEND;TZID=America/Los_Angeles:20250218T213000
DTSTAMP:20260420T011129
CREATED:20231227T212806Z
LAST-MODIFIED:20240911T181216Z
UID:10001075-1739903400-1739914200@goodsociety.beer
SUMMARY:Roark Run Amok
DESCRIPTION:Join as we run from Mystery Made in the Alaska Junction to The Good Society in North Admiral!  Put on by Roark.
URL:https://goodsociety.beer/event/roark-run-amok/2025-02-18/
LOCATION:West Seattle\, 2701 California Ave SW Unit A\, Seattle\, WA\, 98116\, United States
CATEGORIES:Fitness (Runs, Pilates, etc.)
ATTACH;FMTTYPE=image/png:https://goodsociety.beer/wp-content/uploads/2023/12/Tile-1.png
END:VEVENT
BEGIN:VEVENT
DTSTART;TZID=America/Los_Angeles:20250218T180000
DTEND;TZID=America/Los_Angeles:20250218T200000
DTSTAMP:20260420T011129
CREATED:20241015T205549Z
LAST-MODIFIED:20241015T205549Z
UID:10002436-1739901600-1739908800@goodsociety.beer
SUMMARY:West Seattle Ukulele Players
DESCRIPTION:The West Seattle Ukuele Players are on our patio the third Tuesday of each month!
URL:https://goodsociety.beer/event/west-seattle-ukulele-players/2025-02-18/
LOCATION:West Seattle\, 2701 California Ave SW Unit A\, Seattle\, WA\, 98116\, United States
ATTACH;FMTTYPE=image/jpeg:https://goodsociety.beer/wp-content/uploads/2024/10/WSUP.jpg
END:VEVENT
BEGIN:VEVENT
DTSTART;TZID=America/Los_Angeles:20250217T190000
DTEND;TZID=America/Los_Angeles:20250217T210000
DTSTAMP:20260420T011129
CREATED:20240312T194423Z
LAST-MODIFIED:20240312T194606Z
UID:10002168-1739818800-1739826000@goodsociety.beer
SUMMARY:Music Bingo - Queen Anne
DESCRIPTION:Free to play and the winner of each round gets a $10 gift card!  How does it work?  Listen to a song and find the song’s artist.  Then look on the provided reference card to see which Bingo space is assigned to that artist.  Is it on your Bingo card?  Then mark it and go for five in a row!
URL:https://goodsociety.beer/event/music-bingo-queen-anne/2025-02-17/
LOCATION:Queen Anne\, 535 W McGraw Street\, Seattle\, WA\, 98119\, United States
CATEGORIES:Game Nights
ATTACH;FMTTYPE=image/png:https://goodsociety.beer/wp-content/uploads/2023/12/Event-Calendar-Tile-QA.png
END:VEVENT
BEGIN:VEVENT
DTSTART;TZID=America/Los_Angeles:20250217T190000
DTEND;TZID=America/Los_Angeles:20250217T210000
DTSTAMP:20260420T011129
CREATED:20231211T021519Z
LAST-MODIFIED:20240312T194117Z
UID:10000062-1739818800-1739826000@goodsociety.beer
SUMMARY:Trivia - West Seattle
DESCRIPTION:Come join us for weekly trivia!  $2 cash per person to enter.  Winning team takes the cash\, second place gets a $20 gift card to The Good Society!
URL:https://goodsociety.beer/event/trivia/2025-02-17/
LOCATION:West Seattle\, 2701 California Ave SW Unit A\, Seattle\, WA\, 98116\, United States
CATEGORIES:Game Nights
ATTACH;FMTTYPE=image/png:https://goodsociety.beer/wp-content/uploads/2023/12/Event-Calendar-Tile-WS-1.png
END:VEVENT
BEGIN:VEVENT
DTSTART;TZID=America/Los_Angeles:20250213T170000
DTEND;TZID=America/Los_Angeles:20250213T220000
DTSTAMP:20260420T011129
CREATED:20231217T155345Z
LAST-MODIFIED:20231227T221849Z
UID:10000968-1739466000-1739484000@goodsociety.beer
SUMMARY:West Seattle Art Walk
DESCRIPTION:Join us as we display local artists the second Tuesday of each month!
URL:https://goodsociety.beer/event/west-seattle-art-walk/2025-02-13/
LOCATION:West Seattle\, 2701 California Ave SW Unit A\, Seattle\, WA\, 98116\, United States
CATEGORIES:Fitness (Runs, Pilates, etc.)
ATTACH;FMTTYPE=image/png:https://goodsociety.beer/wp-content/uploads/2023/12/Social-Tile.png
END:VEVENT
BEGIN:VEVENT
DTSTART;TZID=America/Los_Angeles:20250212T190000
DTEND;TZID=America/Los_Angeles:20250212T210000
DTSTAMP:20260420T011129
CREATED:20240312T194235Z
LAST-MODIFIED:20240312T194307Z
UID:10001633-1739386800-1739394000@goodsociety.beer
SUMMARY:Trivia - Queen Anne
DESCRIPTION:Come join us for weekly trivia!  $2 cash per person to enter.  Winning team takes the cash\, second place gets a $20 gift card to The Good Society!
URL:https://goodsociety.beer/event/trivia-queen-anne/2025-02-12/
LOCATION:Queen Anne\, 535 W McGraw Street\, Seattle\, WA\, 98119\, United States
CATEGORIES:Game Nights
ATTACH;FMTTYPE=image/png:https://goodsociety.beer/wp-content/uploads/2023/12/Event-Calendar-Tile-QA-1.png
END:VEVENT
BEGIN:VEVENT
DTSTART;TZID=America/Los_Angeles:20250212T190000
DTEND;TZID=America/Los_Angeles:20250212T210000
DTSTAMP:20260420T011129
CREATED:20231211T175349Z
LAST-MODIFIED:20240312T194003Z
UID:10000322-1739386800-1739394000@goodsociety.beer
SUMMARY:Music Bingo - West Seattle
DESCRIPTION:Free to play and the winner of each round gets a $10 gift card!  How does it work?  Listen to a song and find the song’s artist.  Then look on the provided reference card to see which Bingo space is assigned to that artist.  Is it on your Bingo card?  Then mark it and go for five in a row!
URL:https://goodsociety.beer/event/music-bingo/2025-02-12/
LOCATION:West Seattle\, 2701 California Ave SW Unit A\, Seattle\, WA\, 98116\, United States
CATEGORIES:Game Nights
ATTACH;FMTTYPE=image/png:https://goodsociety.beer/wp-content/uploads/2023/12/Event-Calendar-Tile-WS.png
END:VEVENT
BEGIN:VEVENT
DTSTART;TZID=America/Los_Angeles:20250211T143000
DTEND;TZID=America/Los_Angeles:20250217T220000
DTSTAMP:20260420T011129
CREATED:20250211T190918Z
LAST-MODIFIED:20250211T190918Z
UID:10002493-1739284200-1739829600@goodsociety.beer
SUMMARY:5th Anniversary - Queen Anne
DESCRIPTION:It’s been five years since we first opened our doors and shared our beer with you!  The world looked a lot different on February 14th\, 2020.  But with your help\, we persevered and made it this far.  In those five years we have shared hundreds of thousands of beers\, wine\, cider\, non-alcoholic beverages\, pretzels\, and pizzas together. \nWe’ve brewed thousands of barrels of beer across over 250 batches and over 130 recipes.  We’ve won 22 medals for our beers including gold medals at the most prestigious and competitive competitions in the world – and we won Small Brewpub of the Year at the Great American Beer Festival.  With your help\, we’ve given back over $44\,000 to our community and we survived a global pandemic. \nThis weekend we will drop GS5\, our fifth anniversary beer.  This year took the opportunity to work with a bunch of advanced hop products from Citra\, Mosaic\, and Simcoe hops.  We also added Nectaron and Azacca to the mix for an insanely aromatic and juicy IPA. \nBut there’s more!  We will also have casks of our oatmeal stout infused with chocolate and coconut on the bar at each location beginning Friday until they are gone.  We will also have cakes at both locations from our friends Lovely & Dapper including one made with our stout.  Saturday in West Seattle we will be doing our Smash After the Mash smash burger pop up from 4-7 PM.  Saturday in Queen Anne we will have Anniversary Trivia at 3 PM.  And on Sunday in West Seattle\, the Westies Run Club will be running at 11:30 AM and Anniversary Trivia at 3 PM. \nThank you for making the journey with us!  Let’s celebrate and look forward to another five!
URL:https://goodsociety.beer/event/5th-anniversary-queen-anne/
LOCATION:Queen Anne\, 535 W McGraw Street\, Seattle\, WA\, 98119\, United States
CATEGORIES:Special Events
ATTACH;FMTTYPE=image/png:https://goodsociety.beer/wp-content/uploads/2025/02/5th.png
END:VEVENT
BEGIN:VEVENT
DTSTART;TZID=America/Los_Angeles:20250211T143000
DTEND;TZID=America/Los_Angeles:20250217T220000
DTSTAMP:20260420T011129
CREATED:20250211T190831Z
LAST-MODIFIED:20250211T190831Z
UID:10002492-1739284200-1739829600@goodsociety.beer
SUMMARY:5th Anniversary - West Seattle
DESCRIPTION:It’s been five years since we first opened our doors and shared our beer with you!  The world looked a lot different on February 14th\, 2020.  But with your help\, we persevered and made it this far.  In those five years we have shared hundreds of thousands of beers\, wine\, cider\, non-alcoholic beverages\, pretzels\, and pizzas together. \nWe’ve brewed thousands of barrels of beer across over 250 batches and over 130 recipes.  We’ve won 22 medals for our beers including gold medals at the most prestigious and competitive competitions in the world – and we won Small Brewpub of the Year at the Great American Beer Festival.  With your help\, we’ve given back over $44\,000 to our community and we survived a global pandemic. \nThis weekend we will drop GS5\, our fifth anniversary beer.  This year took the opportunity to work with a bunch of advanced hop products from Citra\, Mosaic\, and Simcoe hops.  We also added Nectaron and Azacca to the mix for an insanely aromatic and juicy IPA. \nBut there’s more!  We will also have casks of our oatmeal stout infused with chocolate and coconut on the bar at each location beginning Friday until they are gone.  We will also have cakes at both locations from our friends Lovely & Dapper including one made with our stout.  Saturday in West Seattle we will be doing our Smash After the Mash smash burger pop up from 4-7 PM.  Saturday in Queen Anne we will have Anniversary Trivia at 3 PM.  And on Sunday in West Seattle\, the Westies Run Club will be running at 11:30 AM and Anniversary Trivia at 3 PM. \nThank you for making the journey with us!  Let’s celebrate and look forward to another five!
URL:https://goodsociety.beer/event/5th-anniversary-west-seattle/
LOCATION:West Seattle\, 2701 California Ave SW Unit A\, Seattle\, WA\, 98116\, United States
CATEGORIES:Special Events
ATTACH;FMTTYPE=image/png:https://goodsociety.beer/wp-content/uploads/2025/02/5th.png
END:VEVENT
BEGIN:VEVENT
DTSTART;TZID=America/Los_Angeles:20250210T190000
DTEND;TZID=America/Los_Angeles:20250210T210000
DTSTAMP:20260420T011129
CREATED:20240312T194423Z
LAST-MODIFIED:20240312T194606Z
UID:10002167-1739214000-1739221200@goodsociety.beer
SUMMARY:Music Bingo - Queen Anne
DESCRIPTION:Free to play and the winner of each round gets a $10 gift card!  How does it work?  Listen to a song and find the song’s artist.  Then look on the provided reference card to see which Bingo space is assigned to that artist.  Is it on your Bingo card?  Then mark it and go for five in a row!
URL:https://goodsociety.beer/event/music-bingo-queen-anne/2025-02-10/
LOCATION:Queen Anne\, 535 W McGraw Street\, Seattle\, WA\, 98119\, United States
CATEGORIES:Game Nights
ATTACH;FMTTYPE=image/png:https://goodsociety.beer/wp-content/uploads/2023/12/Event-Calendar-Tile-QA.png
END:VEVENT
BEGIN:VEVENT
DTSTART;TZID=America/Los_Angeles:20250210T190000
DTEND;TZID=America/Los_Angeles:20250210T210000
DTSTAMP:20260420T011129
CREATED:20231211T021519Z
LAST-MODIFIED:20240312T194117Z
UID:10000061-1739214000-1739221200@goodsociety.beer
SUMMARY:Trivia - West Seattle
DESCRIPTION:Come join us for weekly trivia!  $2 cash per person to enter.  Winning team takes the cash\, second place gets a $20 gift card to The Good Society!
URL:https://goodsociety.beer/event/trivia/2025-02-10/
LOCATION:West Seattle\, 2701 California Ave SW Unit A\, Seattle\, WA\, 98116\, United States
CATEGORIES:Game Nights
ATTACH;FMTTYPE=image/png:https://goodsociety.beer/wp-content/uploads/2023/12/Event-Calendar-Tile-WS-1.png
END:VEVENT
BEGIN:VEVENT
DTSTART;TZID=America/Los_Angeles:20250205T190000
DTEND;TZID=America/Los_Angeles:20250205T210000
DTSTAMP:20260420T011129
CREATED:20240312T194235Z
LAST-MODIFIED:20240312T194307Z
UID:10001632-1738782000-1738789200@goodsociety.beer
SUMMARY:Trivia - Queen Anne
DESCRIPTION:Come join us for weekly trivia!  $2 cash per person to enter.  Winning team takes the cash\, second place gets a $20 gift card to The Good Society!
URL:https://goodsociety.beer/event/trivia-queen-anne/2025-02-05/
LOCATION:Queen Anne\, 535 W McGraw Street\, Seattle\, WA\, 98119\, United States
CATEGORIES:Game Nights
ATTACH;FMTTYPE=image/png:https://goodsociety.beer/wp-content/uploads/2023/12/Event-Calendar-Tile-QA-1.png
END:VEVENT
BEGIN:VEVENT
DTSTART;TZID=America/Los_Angeles:20250205T190000
DTEND;TZID=America/Los_Angeles:20250205T210000
DTSTAMP:20260420T011129
CREATED:20231211T175349Z
LAST-MODIFIED:20240312T194003Z
UID:10000321-1738782000-1738789200@goodsociety.beer
SUMMARY:Music Bingo - West Seattle
DESCRIPTION:Free to play and the winner of each round gets a $10 gift card!  How does it work?  Listen to a song and find the song’s artist.  Then look on the provided reference card to see which Bingo space is assigned to that artist.  Is it on your Bingo card?  Then mark it and go for five in a row!
URL:https://goodsociety.beer/event/music-bingo/2025-02-05/
LOCATION:West Seattle\, 2701 California Ave SW Unit A\, Seattle\, WA\, 98116\, United States
CATEGORIES:Game Nights
ATTACH;FMTTYPE=image/png:https://goodsociety.beer/wp-content/uploads/2023/12/Event-Calendar-Tile-WS.png
END:VEVENT
BEGIN:VEVENT
DTSTART;TZID=America/Los_Angeles:20250204T183000
DTEND;TZID=America/Los_Angeles:20250204T213000
DTSTAMP:20260420T011129
CREATED:20231227T212806Z
LAST-MODIFIED:20240911T181216Z
UID:10001073-1738693800-1738704600@goodsociety.beer
SUMMARY:Roark Run Amok
DESCRIPTION:Join as we run from Mystery Made in the Alaska Junction to The Good Society in North Admiral!  Put on by Roark.
URL:https://goodsociety.beer/event/roark-run-amok/2025-02-04/
LOCATION:West Seattle\, 2701 California Ave SW Unit A\, Seattle\, WA\, 98116\, United States
CATEGORIES:Fitness (Runs, Pilates, etc.)
ATTACH;FMTTYPE=image/png:https://goodsociety.beer/wp-content/uploads/2023/12/Tile-1.png
END:VEVENT
BEGIN:VEVENT
DTSTART;TZID=America/Los_Angeles:20250203T190000
DTEND;TZID=America/Los_Angeles:20250203T210000
DTSTAMP:20260420T011129
CREATED:20240312T194423Z
LAST-MODIFIED:20240312T194606Z
UID:10002166-1738609200-1738616400@goodsociety.beer
SUMMARY:Music Bingo - Queen Anne
DESCRIPTION:Free to play and the winner of each round gets a $10 gift card!  How does it work?  Listen to a song and find the song’s artist.  Then look on the provided reference card to see which Bingo space is assigned to that artist.  Is it on your Bingo card?  Then mark it and go for five in a row!
URL:https://goodsociety.beer/event/music-bingo-queen-anne/2025-02-03/
LOCATION:Queen Anne\, 535 W McGraw Street\, Seattle\, WA\, 98119\, United States
CATEGORIES:Game Nights
ATTACH;FMTTYPE=image/png:https://goodsociety.beer/wp-content/uploads/2023/12/Event-Calendar-Tile-QA.png
END:VEVENT
BEGIN:VEVENT
DTSTART;TZID=America/Los_Angeles:20250203T190000
DTEND;TZID=America/Los_Angeles:20250203T210000
DTSTAMP:20260420T011129
CREATED:20231211T021519Z
LAST-MODIFIED:20240312T194117Z
UID:10000060-1738609200-1738616400@goodsociety.beer
SUMMARY:Trivia - West Seattle
DESCRIPTION:Come join us for weekly trivia!  $2 cash per person to enter.  Winning team takes the cash\, second place gets a $20 gift card to The Good Society!
URL:https://goodsociety.beer/event/trivia/2025-02-03/
LOCATION:West Seattle\, 2701 California Ave SW Unit A\, Seattle\, WA\, 98116\, United States
CATEGORIES:Game Nights
ATTACH;FMTTYPE=image/png:https://goodsociety.beer/wp-content/uploads/2023/12/Event-Calendar-Tile-WS-1.png
END:VEVENT
BEGIN:VEVENT
DTSTART;TZID=America/Los_Angeles:20250129T190000
DTEND;TZID=America/Los_Angeles:20250129T210000
DTSTAMP:20260420T011129
CREATED:20240312T194235Z
LAST-MODIFIED:20240312T194307Z
UID:10001631-1738177200-1738184400@goodsociety.beer
SUMMARY:Trivia - Queen Anne
DESCRIPTION:Come join us for weekly trivia!  $2 cash per person to enter.  Winning team takes the cash\, second place gets a $20 gift card to The Good Society!
URL:https://goodsociety.beer/event/trivia-queen-anne/2025-01-29/
LOCATION:Queen Anne\, 535 W McGraw Street\, Seattle\, WA\, 98119\, United States
CATEGORIES:Game Nights
ATTACH;FMTTYPE=image/png:https://goodsociety.beer/wp-content/uploads/2023/12/Event-Calendar-Tile-QA-1.png
END:VEVENT
END:VCALENDAR